BEGIN:VCALENDAR
VERSION:2.0
PRODID:-//ChamberMaster//Event Calendar 2.0//EN
METHOD:PUBLISH
X-PUBLISHED-TTL:P3D
REFRESH-INTERVAL:P3D
CALSCALE:GREGORIAN
BEGIN:VEVENT
DTSTART:20201019T020000Z
DTEND:20201019T033000Z
X-MICROSOFT-CDO-ALLDAYEVENT:FALSE
SUMMARY:201019 AmCham Energy Committee Meeting - October (For AmCham Members Only)
DESCRIPTION:
X-ALT-DESC;FMTTYPE=text/html:
LOCATION:
UID:e.2917.758
SEQUENCE:3
DTSTAMP:20260421T232619Z
URL:https://business.amchamvietnam.com/events/details/201019-amcham-energy-committee-meeting-october-for-amcham-members-only-758
END:VEVENT

END:VCALENDAR
