BEGIN:VCALENDAR
VERSION:2.0
PRODID:-//ChamberMaster//Event Calendar 2.0//EN
METHOD:PUBLISH
X-PUBLISHED-TTL:P3D
REFRESH-INTERVAL:P3D
CALSCALE:GREGORIAN
BEGIN:VEVENT
DTSTART:20180530T013000Z
DTEND:20180530T040000Z
X-MICROSOFT-CDO-ALLDAYEVENT:FALSE
SUMMARY:HR Committee Morning Briefing: Millennials - Generational Gaps
DESCRIPTION:Millennials (born 1981 to 1996) are in the workforce around 40% and will be up to 70% in the next 10 years for the most companies. They are not young any more. They are not inexperience any more. They start taking up management positions in the organization while having different set of expectations for their job and managers to compare with other managers of previous generations. We recognised that it must be NOW for the company to have a strategic plan\, a right environment to engage\, grow and make the company success through this workforce.\n\n \n\nAgenda: \n\n8:30am:  Registration \n\n9:00am:  Welcome remarks \n\n9:10am: Presentation: Giving A Global Context And Introducing Millennials Generation  \n\n10:00am: Panel Discussion\n\n10:30am: Q&A \n\n11:00am: Event ends
X-ALT-DESC;FMTTYPE=text/html:<p><span style="font-size:14px\;"><span style="font-family:arial\,sans-serif\;">Millennials (born 1981 to 1996) are in the workforce around 40% and will be up to 70% in the next 10 years for the most companies. They are not young any more. They are not inexperience any more. They start taking up management positions in the organization while having different set of expectations for their job and managers to compare with other managers of previous generations. We recognised that it must be NOW for the company to have a strategic plan\, a right environment to engage\, grow and make the company success through this workforce.</span><br>\n&nbsp\;<br>\n<strong>Agenda:&nbsp\;</strong><br>\n8:30am: &nbsp\;Registration&nbsp\;<br>\n9:00am: &nbsp\;Welcome remarks&nbsp\;<br>\n9:10am: Presentation: Giving A Global Context And Introducing Millennials Generation &nbsp\;<br>\n10:00am: Panel Discussion<br>\n10:30am: Q&amp\;A&nbsp\;<br>\n11:00am: Event ends</span></p>\n
LOCATION:The Reverie Saigon\, 22-36 Nguyen Hue Boulevard\, Ben Nghe Ward\, District 1\, Ho Chi Minh City
UID:e.2917.44
SEQUENCE:3
DTSTAMP:20260421T024317Z
URL:https://business.amchamvietnam.com/events/details/hr-committee-morning-briefing-millennials-generational-gaps-44
END:VEVENT

END:VCALENDAR
